BEGIN:VCALENDAR
VERSION:2.0
PRODID:-//wp-events-plugin.com//7.2.3.1//EN
TZID:Europe/Amsterdam
X-WR-TIMEZONE:Europe/Amsterdam
BEGIN:VEVENT
UID:16@historischekringzuidhorn.nl
DTSTART;TZID=Europe/Amsterdam:20251009T200000
DTEND;TZID=Europe/Amsterdam:20251009T220000
DTSTAMP:20251007T172439Z
URL:https://historischekringzuidhorn.nl/events/historische-stamtafel/
SUMMARY:Historische stamtafel
DESCRIPTION:Lezing door Albert Beuse over oud Noordhorn
ATTACH;FMTTYPE=image/jpeg:https://historischekringzuidhorn.nl/wp-content/u
 ploads/2025/10/foto-Noordhorn.jpg
CATEGORIES:Diversen
LOCATION:Dörpsstee in Noordhorn\, Noorderweg 61C\, Noordhorn\, GR\, 9804 R
 L\, Nederland
X-APPLE-STRUCTURED-LOCATION;VALUE=URI;X-ADDRESS=Noorderweg 61C\, Noordhorn\
 , GR\, 9804 RL\, Nederland;X-APPLE-RADIUS=100;X-TITLE=Dörpsstee in Noordh
 orn:geo:0,0
END:VEVENT
BEGIN:VTIMEZONE
TZID:Europe/Amsterdam
X-LIC-LOCATION:Europe/Amsterdam
BEGIN:DAYLIGHT
DTSTART:20250330T030000
TZOFFSETFROM:+0100
TZOFFSETTO:+0200
TZNAME:CEST
END:DAYLIGHT
END:VTIMEZONE
END:VCALENDAR